BEGIN:VCALENDAR
VERSION:2.0
PRODID:-//Sabre//Sabre VObject 4.5.8//EN
CALSCALE:GREGORIAN
NAME:XML文書技術の新展開 (New development in XML document technolog
 y) (panel)
X-WR-CALNAME:XML文書技術の新展開 (New development in XML document t
 echnology) (panel)
BEGIN:VTIMEZONE
TZID:UTC
X-MICROSOFT-CDO-TZID:0
BEGIN:STANDARD
DTSTART:20040210T000000
TZOFFSETFROM:+0000
TZOFFSETTO:+0000
TZNAME:UTC
END:STANDARD
END:VTIMEZONE
BEGIN:VEVENT
UID:e8baca4f-1cbc-4ba5-810b-5585a514f3af
DTSTAMP:20221209T185123Z
SUMMARY:XML文書技術の新展開 (New development in XML document techno
 logy) (panel)
DTSTART:20050204T000000Z
DTEND:20050204T000000Z
DESCRIPTION:https://www.w3.org/events/talks/2005/xml%E6%96%87%E6%9B%B8%E6%8
 A%80%E8%A1%93%E3%81%AE%E6%96%B0%E5%B1%95%E9%96%8B/\n\nXML文書技術の
 新展開 (New development in XML document technology) (panel)
STATUS:CONFIRMED
CREATED:20050204T000000Z
LAST-MODIFIED:20221209T185123Z
END:VEVENT
END:VCALENDAR
