BEGIN:VCALENDAR
VERSION:2.0
PRODID:-//Sabre//Sabre VObject 4.5.8//EN
CALSCALE:GREGORIAN
NAME:XML - johdanto\, uusimmat standardit ja kehitys (XML: introduction\, t
 he latest standards and development)
X-WR-CALNAME:XML - johdanto\, uusimmat standardit ja kehitys (XML: introduc
 tion\, the latest standards and development)
BEGIN:VTIMEZONE
TZID:UTC
X-MICROSOFT-CDO-TZID:0
BEGIN:STANDARD
DTSTART:20040222T000000
TZOFFSETFROM:+0000
TZOFFSETTO:+0000
TZNAME:UTC
END:STANDARD
END:VTIMEZONE
BEGIN:VEVENT
UID:411949c1-c807-4dad-acc6-dba31e63a84d
DTSTAMP:20221212T090439Z
SUMMARY:XML - johdanto\, uusimmat standardit ja kehitys (XML: introduction\
 , the latest standards and development)
DTSTART:20050216T000000Z
DTEND:20050216T000000Z
DESCRIPTION:https://www.w3.org/events/talks/2005/xml-johdanto-uusimmat-stan
 dardit-ja-kehitys/\n\nXML - johdanto\, uusimmat standardit ja kehitys (XML
 : introduction\, the latest standards and development)
STATUS:CONFIRMED
CREATED:20050216T000000Z
LAST-MODIFIED:20221212T090439Z
END:VEVENT
END:VCALENDAR
