BEGIN:VCALENDAR
VERSION:2.0
PRODID:-//Sabre//Sabre VObject 4.5.8//EN
CALSCALE:GREGORIAN
NAME:XML: Living on the edge
X-WR-CALNAME:XML: Living on the edge
BEGIN:VTIMEZONE
TZID:UTC
X-MICROSOFT-CDO-TZID:0
BEGIN:STANDARD
DTSTART:20040120T000000
TZOFFSETFROM:+0000
TZOFFSETTO:+0000
TZNAME:UTC
END:STANDARD
END:VTIMEZONE
BEGIN:VEVENT
UID:b2244907-c677-4fe6-a458-674d2ad001e5
DTSTAMP:20221109T093512Z
SUMMARY:XML: Living on the edge
DTSTART:20050114T000000Z
DTEND:20050114T000000Z
DESCRIPTION:https://www.w3.org/events/talks/2005/xml-living-on-the-edge/\n\
 nXML: Living on the edge
STATUS:CONFIRMED
CREATED:20050114T000000Z
LAST-MODIFIED:20221109T093512Z
END:VEVENT
END:VCALENDAR
