BEGIN:VCALENDAR
VERSION:2.0
PRODID:-//Sabre//Sabre VObject 4.5.8//EN
CALSCALE:GREGORIAN
NAME:XML-pohjaiset rakennemäärittelyt (XML based structure/type definitio
 ns)
X-WR-CALNAME:XML-pohjaiset rakennemäärittelyt (XML based structure/type d
 efinitions)
BEGIN:VTIMEZONE
TZID:UTC
X-MICROSOFT-CDO-TZID:0
BEGIN:STANDARD
DTSTART:20040222T000000
TZOFFSETFROM:+0000
TZOFFSETTO:+0000
TZNAME:UTC
END:STANDARD
END:VTIMEZONE
BEGIN:VEVENT
UID:61aa13eb-12ca-4005-b33d-1d7fa3408abe
DTSTAMP:20221212T090510Z
SUMMARY:XML-pohjaiset rakennemäärittelyt (XML based structure/type defini
 tions)
DTSTART:20050216T000000Z
DTEND:20050216T000000Z
DESCRIPTION:https://www.w3.org/events/talks/2005/xml-pohjaiset-rakennem%C3%
 A4%C3%A4rittelyt/\n\nXML-pohjaiset rakennemäärittelyt (XML based structu
 re/type definitions)
STATUS:CONFIRMED
CREATED:20050216T000000Z
LAST-MODIFIED:20221212T090510Z
END:VEVENT
END:VCALENDAR
