BEGIN:VCALENDAR
VERSION:2.0
PRODID:-//Sabre//Sabre VObject 4.5.8//EN
CALSCALE:GREGORIAN
NAME:XML-pohjaisten standardien kehitystyö W3C:ssä: poimintoja tulevasta(
 Developing XML based standards at the W3C: selected topics of the near fut
 ure)
X-WR-CALNAME:XML-pohjaisten standardien kehitystyö W3C:ssä: poimintoja tu
 levasta(Developing XML based standards at the W3C: selected topics of the 
 near future)
BEGIN:VTIMEZONE
TZID:UTC
X-MICROSOFT-CDO-TZID:0
BEGIN:STANDARD
DTSTART:20040313T000000
TZOFFSETFROM:+0000
TZOFFSETTO:+0000
TZNAME:UTC
END:STANDARD
END:VTIMEZONE
BEGIN:VEVENT
UID:037a4dc7-e298-4d35-b261-9fe4666bb950
DTSTAMP:20221212T090647Z
SUMMARY:XML-pohjaisten standardien kehitystyö W3C:ssä: poimintoja tulevas
 ta(Developing XML based standards at the W3C: selected topics of the near 
 future)
DTSTART:20050308T000000Z
DTEND:20050308T000000Z
DESCRIPTION:https://www.w3.org/events/talks/2005/xml-pohjaisten-standardien
 -kehitysty%C3%B6-w3css%C3%A4-poimintoja-tulevasta/\n\nXML-pohjaisten stand
 ardien kehitystyö W3C:ssä: poimintoja tulevasta (Developing XML based st
 andards at the W3C: selected topics of future)
STATUS:CONFIRMED
CREATED:20050308T000000Z
LAST-MODIFIED:20221212T090647Z
END:VEVENT
END:VCALENDAR
