BEGIN:VCALENDAR
VERSION:2.0
PRODID:-//Sabre//Sabre VObject 4.5.8//EN
CALSCALE:GREGORIAN
NAME:XML-tietojenkäsittely (XML data processing)
X-WR-CALNAME:XML-tietojenkäsittely (XML data processing)
BEGIN:VTIMEZONE
TZID:UTC
X-MICROSOFT-CDO-TZID:0
BEGIN:STANDARD
DTSTART:20040222T000000
TZOFFSETFROM:+0000
TZOFFSETTO:+0000
TZNAME:UTC
END:STANDARD
END:VTIMEZONE
BEGIN:VEVENT
UID:a88cd64c-a181-47b1-9314-0ea598dae5ec
DTSTAMP:20221212T090323Z
SUMMARY:XML-tietojenkäsittely (XML data processing)
DTSTART:20050216T000000Z
DTEND:20050216T000000Z
DESCRIPTION:https://www.w3.org/events/talks/2005/xml-tietojenk%C3%A4sittely
 /\n\nXML-tietojenkäsittely (XML data processing)
STATUS:CONFIRMED
CREATED:20050216T000000Z
LAST-MODIFIED:20221212T090323Z
END:VEVENT
END:VCALENDAR
