BEGIN:VCALENDAR
VERSION:2.0
PRODID:-//Sabre//Sabre VObject 4.5.8//EN
CALSCALE:GREGORIAN
NAME:Beneficios de los Estándares Web (Benefits of Web Standards)
X-WR-CALNAME:Beneficios de los Estándares Web (Benefits of Web Standards)
BEGIN:VTIMEZONE
TZID:UTC
X-MICROSOFT-CDO-TZID:0
BEGIN:STANDARD
DTSTART:20050226T000000
TZOFFSETFROM:+0000
TZOFFSETTO:+0000
TZNAME:UTC
END:STANDARD
END:VTIMEZONE
BEGIN:VEVENT
UID:065a74c5-264b-4c55-bcb7-900c2f616b0b
DTSTAMP:20221212T093338Z
SUMMARY:Beneficios de los Estándares Web (Benefits of Web Standards)
DTSTART:20060221T000000Z
DTEND:20060221T000000Z
DESCRIPTION:https://www.w3.org/events/talks/2006/beneficios-de-los-est%C3%A
 1ndares-web/\n\nBeneficios de los Estándares Web (Benefits of Web Standar
 ds)
STATUS:CONFIRMED
CREATED:20060221T000000Z
LAST-MODIFIED:20221212T093338Z
END:VEVENT
END:VCALENDAR
