BEGIN:VCALENDAR
VERSION:2.0
PRODID:-//Sabre//Sabre VObject 4.5.8//EN
CALSCALE:GREGORIAN
NAME:Semantic Web: non solo teoria  (Semantic Web: not just theory)
X-WR-CALNAME:Semantic Web: non solo teoria  (Semantic Web: not just theory)
BEGIN:VTIMEZONE
TZID:UTC
X-MICROSOFT-CDO-TZID:0
BEGIN:STANDARD
DTSTART:20050130T000000
TZOFFSETFROM:+0000
TZOFFSETTO:+0000
TZNAME:UTC
END:STANDARD
END:VTIMEZONE
BEGIN:VEVENT
UID:9414bf91-4003-44f2-8561-29fcf6c818d0
DTSTAMP:20221109T174458Z
SUMMARY:Semantic Web: non solo teoria  (Semantic Web: not just theory)
DTSTART:20060125T000000Z
DTEND:20060125T000000Z
DESCRIPTION:https://www.w3.org/events/talks/2006/semantic-web-non-solo-teor
 ia/\n\nSemantic Web: non solo teoria  (Semantic Web: not just theory)
STATUS:CONFIRMED
CREATED:20060125T000000Z
LAST-MODIFIED:20221109T174458Z
END:VEVENT
END:VCALENDAR
