BEGIN:VCALENDAR
VERSION:2.0
PRODID:-//Sabre//Sabre VObject 4.5.8//EN
CALSCALE:GREGORIAN
NAME:The future of the Web
X-WR-CALNAME:The future of the Web
BEGIN:VTIMEZONE
TZID:UTC
X-MICROSOFT-CDO-TZID:0
BEGIN:STANDARD
DTSTART:20050319T000000
TZOFFSETFROM:+0000
TZOFFSETTO:+0000
TZNAME:UTC
END:STANDARD
END:VTIMEZONE
BEGIN:VEVENT
UID:51788bf1-79a2-49c2-a0cc-db3a572d41a8
DTSTAMP:20221109T173734Z
SUMMARY:The future of the Web
DTSTART:20060314T000000Z
DTEND:20060314T000000Z
DESCRIPTION:https://www.w3.org/events/talks/2006/the-future-of-the-web/\n\n
 The future of the Web
STATUS:CONFIRMED
CREATED:20060314T000000Z
LAST-MODIFIED:20221109T173734Z
END:VEVENT
END:VCALENDAR
