BEGIN:VCALENDAR
VERSION:2.0
PRODID:-//Sabre//Sabre VObject 4.5.8//EN
CALSCALE:GREGORIAN
NAME:W3C WAI\, avagy a Weblapok akadálymentesítése  (W3C WAI\, i.e.\, Ma
 king Web Sites Accessible)
X-WR-CALNAME:W3C WAI\, avagy a Weblapok akadálymentesítése  (W3C WAI\, i
 .e.\, Making Web Sites Accessible)
BEGIN:VTIMEZONE
TZID:UTC
X-MICROSOFT-CDO-TZID:0
BEGIN:STANDARD
DTSTART:20050323T000000
TZOFFSETFROM:+0000
TZOFFSETTO:+0000
TZNAME:UTC
END:STANDARD
END:VTIMEZONE
BEGIN:VEVENT
UID:ba5d9671-114f-4a84-956c-820a7cd6ebdc
DTSTAMP:20221109T180145Z
SUMMARY:W3C WAI\, avagy a Weblapok akadálymentesítése  (W3C WAI\, i.e.\,
  Making Web Sites Accessible)
DTSTART:20060318T000000Z
DTEND:20060318T000000Z
DESCRIPTION:https://www.w3.org/events/talks/2006/w3c-wai-avagy-a-weblapok-a
 kad%C3%A1lymentes%C3%ADt%C3%A9se/\n\nW3C WAI\, avagy a Weblapok akadályme
 ntesítése  (W3C WAI\, i.e.\, Making Web Sites Accessible)
STATUS:CONFIRMED
CREATED:20060318T000000Z
LAST-MODIFIED:20221109T180145Z
END:VEVENT
END:VCALENDAR
