BEGIN:VCALENDAR
VERSION:2.0
PRODID:-//Sabre//Sabre VObject 4.5.8//EN
CALSCALE:GREGORIAN
NAME:Mobile Web in Developing Countries
X-WR-CALNAME:Mobile Web in Developing Countries
BEGIN:VTIMEZONE
TZID:UTC
X-MICROSOFT-CDO-TZID:0
BEGIN:STANDARD
DTSTART:20070128T000000
TZOFFSETFROM:+0000
TZOFFSETTO:+0000
TZNAME:UTC
END:STANDARD
END:VTIMEZONE
BEGIN:VEVENT
UID:064238f2-c5ce-4424-a363-c563f9a19a55
DTSTAMP:20221115T110056Z
SUMMARY:Mobile Web in Developing Countries
DTSTART:20080123T000000Z
DTEND:20080123T000000Z
DESCRIPTION:https://www.w3.org/events/talks/2008/mobile-web-in-developing-c
 ountries/\n\nMobile Web in Developing Countries
STATUS:CONFIRMED
CREATED:20080123T000000Z
LAST-MODIFIED:20221115T110056Z
END:VEVENT
END:VCALENDAR
