BEGIN:VCALENDAR
VERSION:2.0
PRODID:-//Sabre//Sabre VObject 4.5.8//EN
CALSCALE:GREGORIAN
NAME:RDFa: Extensible Structured Data in HTML
X-WR-CALNAME:RDFa: Extensible Structured Data in HTML
BEGIN:VTIMEZONE
TZID:UTC
X-MICROSOFT-CDO-TZID:0
BEGIN:STANDARD
DTSTART:20070427T000000
TZOFFSETFROM:+0000
TZOFFSETTO:+0000
TZNAME:UTC
END:STANDARD
END:VTIMEZONE
BEGIN:VEVENT
UID:5383520e-c97c-4250-98d8-48bd60a0afc3
DTSTAMP:20221115T112830Z
SUMMARY:RDFa: Extensible Structured Data in HTML
DTSTART:20080421T000000Z
DTEND:20080421T000000Z
DESCRIPTION:https://www.w3.org/events/talks/2008/rdfa-extensible-structured
 -data-in-html/\n\nRDFa: Extensible Structured Data in HTML
STATUS:CONFIRMED
CREATED:20080421T000000Z
LAST-MODIFIED:20221115T112830Z
END:VEVENT
END:VCALENDAR
