BEGIN:VCALENDAR
VERSION:2.0
PRODID:-//Sabre//Sabre VObject 4.5.8//EN
CALSCALE:GREGORIAN
NAME:State of the Semantic Web
X-WR-CALNAME:State of the Semantic Web
BEGIN:VTIMEZONE
TZID:UTC
X-MICROSOFT-CDO-TZID:0
BEGIN:STANDARD
DTSTART:20070313T000000
TZOFFSETFROM:+0000
TZOFFSETTO:+0000
TZNAME:UTC
END:STANDARD
END:VTIMEZONE
BEGIN:VEVENT
UID:b2bd0dba-c2d5-4767-ae23-d961183995ea
DTSTAMP:20221115T112544Z
SUMMARY:State of the Semantic Web
DTSTART:20080307T000000Z
DTEND:20080307T000000Z
DESCRIPTION:https://www.w3.org/events/talks/2008/state-of-the-semantic-web/
 \n\nState of the Semantic Web
STATUS:CONFIRMED
CREATED:20080307T000000Z
LAST-MODIFIED:20221115T112544Z
END:VEVENT
END:VCALENDAR
