BEGIN:VCALENDAR
VERSION:2.0
PRODID:-//Sabre//Sabre VObject 4.5.8//EN
CALSCALE:GREGORIAN
NAME:TIC y Gobernabilidad
X-WR-CALNAME:TIC y Gobernabilidad
BEGIN:VTIMEZONE
TZID:UTC
X-MICROSOFT-CDO-TZID:0
BEGIN:STANDARD
DTSTART:20070205T000000
TZOFFSETFROM:+0000
TZOFFSETTO:+0000
TZNAME:UTC
END:STANDARD
END:VTIMEZONE
BEGIN:VEVENT
UID:1f53722d-f673-4287-ad22-acc1293e0f0e
DTSTAMP:20221115T110048Z
SUMMARY:TIC y Gobernabilidad
DTSTART:20080131T000000Z
DTEND:20080131T000000Z
DESCRIPTION:https://www.w3.org/events/talks/2008/tic-y-gobernabilidad/\n\nT
 IC y Gobernabilidad
STATUS:CONFIRMED
CREATED:20080131T000000Z
LAST-MODIFIED:20221115T110048Z
END:VEVENT
END:VCALENDAR
