BEGIN:VCALENDAR
VERSION:2.0
PRODID:-//Sabre//Sabre VObject 4.5.8//EN
CALSCALE:GREGORIAN
NAME:Web Accessibility - Hochglanz und Qualität (Web Accessibility - Polis
 hing and Quality)
X-WR-CALNAME:Web Accessibility - Hochglanz und Qualität (Web Accessibility
  - Polishing and Quality)
BEGIN:VTIMEZONE
TZID:UTC
X-MICROSOFT-CDO-TZID:0
BEGIN:STANDARD
DTSTART:20070226T000000
TZOFFSETFROM:+0000
TZOFFSETTO:+0000
TZNAME:UTC
END:STANDARD
END:VTIMEZONE
BEGIN:VEVENT
UID:9f36a631-de5e-4b79-b52f-4a7cdf6dede8
DTSTAMP:20221115T110050Z
SUMMARY:Web Accessibility - Hochglanz und Qualität (Web Accessibility - Po
 lishing and Quality)
DTSTART:20080221T000000Z
DTEND:20080221T000000Z
DESCRIPTION:https://www.w3.org/events/talks/2008/web-accessibility-hochglan
 z-und-qualit%C3%A4t-web-accessibility-polishing-and-quality/\n\nWeb Access
 ibility - Hochglanz und Qualität (Web Accessibility - Polishing and Quali
 ty)
STATUS:CONFIRMED
CREATED:20080221T000000Z
LAST-MODIFIED:20221115T110050Z
END:VEVENT
END:VCALENDAR
