BEGIN:VCALENDAR
VERSION:2.0
PRODID:-//Sabre//Sabre VObject 4.5.8//EN
CALSCALE:GREGORIAN
NAME:eGov and the W3C
X-WR-CALNAME:eGov and the W3C
BEGIN:VTIMEZONE
TZID:UTC
X-MICROSOFT-CDO-TZID:0
BEGIN:STANDARD
DTSTART:20080206T000000
TZOFFSETFROM:+0000
TZOFFSETTO:+0000
TZNAME:UTC
END:STANDARD
END:VTIMEZONE
BEGIN:VEVENT
UID:a6f7ee68-0dea-4a6b-b10e-9a718e173c22
DTSTAMP:20221115T152523Z
SUMMARY:eGov and the W3C
DTSTART:20090131T000000Z
DTEND:20090131T000000Z
DESCRIPTION:https://www.w3.org/events/talks/2009/egov-and-the-w3c/\n\neGov 
 and the W3C
STATUS:CONFIRMED
CREATED:20090131T000000Z
LAST-MODIFIED:20221115T152523Z
END:VEVENT
END:VCALENDAR
