BEGIN:VCALENDAR
VERSION:2.0
PRODID:-//Sabre//Sabre VObject 4.5.8//EN
CALSCALE:GREGORIAN
NAME:Linked Data and Healthcare and Life Sciences
X-WR-CALNAME:Linked Data and Healthcare and Life Sciences
BEGIN:VTIMEZONE
TZID:UTC
X-MICROSOFT-CDO-TZID:0
BEGIN:STANDARD
DTSTART:20080303T000000
TZOFFSETFROM:+0000
TZOFFSETTO:+0000
TZNAME:UTC
END:STANDARD
END:VTIMEZONE
BEGIN:VEVENT
UID:510615b6-6917-42ea-8c31-93ddeb7e8589
DTSTAMP:20221115T152517Z
SUMMARY:Linked Data and Healthcare and Life Sciences
DTSTART:20090226T000000Z
DTEND:20090226T000000Z
DESCRIPTION:https://www.w3.org/events/talks/2009/linked-data-and-healthcare
 -and-life-sciences/\n\nLinked Data and Healthcare and Life Sciences
STATUS:CONFIRMED
CREATED:20090226T000000Z
LAST-MODIFIED:20221115T152517Z
END:VEVENT
END:VCALENDAR
