BEGIN:VCALENDAR
VERSION:2.0
PRODID:-//Sabre//Sabre VObject 4.5.8//EN
CALSCALE:GREGORIAN
NAME:Never is a long time
X-WR-CALNAME:Never is a long time
BEGIN:VTIMEZONE
TZID:UTC
X-MICROSOFT-CDO-TZID:0
BEGIN:STANDARD
DTSTART:20080115T000000
TZOFFSETFROM:+0000
TZOFFSETTO:+0000
TZNAME:UTC
END:STANDARD
END:VTIMEZONE
BEGIN:VEVENT
UID:84226176-cedd-4112-826c-d52fb9fc168c
DTSTAMP:20221115T152515Z
SUMMARY:Never is a long time
DTSTART:20090109T000000Z
DTEND:20090109T000000Z
DESCRIPTION:https://www.w3.org/events/talks/2009/never-is-a-long-time/\n\nN
 ever is a long time
STATUS:CONFIRMED
CREATED:20090109T000000Z
LAST-MODIFIED:20221115T152515Z
END:VEVENT
END:VCALENDAR
