BEGIN:VCALENDAR
VERSION:2.0
PRODID:-//Sabre//Sabre VObject 4.5.8//EN
CALSCALE:GREGORIAN
NAME:Présentation du W3C (Overview W3C)
X-WR-CALNAME:Présentation du W3C (Overview W3C)
BEGIN:VTIMEZONE
TZID:UTC
X-MICROSOFT-CDO-TZID:0
BEGIN:STANDARD
DTSTART:20090103T000000
TZOFFSETFROM:+0000
TZOFFSETTO:+0000
TZNAME:UTC
END:STANDARD
END:VTIMEZONE
BEGIN:VEVENT
UID:9390e486-fb45-4ff0-92a1-9495336d52ad
DTSTAMP:20221115T152526Z
SUMMARY:Présentation du W3C (Overview W3C)
DTSTART:20091229T000000Z
DTEND:20091229T000000Z
DESCRIPTION:https://www.w3.org/events/talks/2009/pr%C3%A9sentation-du-w3c-o
 verview-w3c/\n\nPrésentation du W3C (Overview W3C)
STATUS:CONFIRMED
CREATED:20091229T000000Z
LAST-MODIFIED:20221115T152526Z
END:VEVENT
END:VCALENDAR
