BEGIN:VCALENDAR
VERSION:2.0
PRODID:-//Sabre//Sabre VObject 4.5.8//EN
CALSCALE:GREGORIAN
NAME:What is the Semantic Web?
X-WR-CALNAME:What is the Semantic Web?
BEGIN:VTIMEZONE
TZID:UTC
X-MICROSOFT-CDO-TZID:0
BEGIN:STANDARD
DTSTART:20080121T000000
TZOFFSETFROM:+0000
TZOFFSETTO:+0000
TZNAME:UTC
END:STANDARD
END:VTIMEZONE
BEGIN:VEVENT
UID:19bd44cf-8675-40f0-8ff6-435384d951c5
DTSTAMP:20221115T152521Z
SUMMARY:What is the Semantic Web?
DTSTART:20090115T000000Z
DTEND:20090115T000000Z
DESCRIPTION:https://www.w3.org/events/talks/2009/what-is-the-semantic-web/\
 n\nWhat is the Semantic Web?
STATUS:CONFIRMED
CREATED:20090115T000000Z
LAST-MODIFIED:20221115T152521Z
END:VEVENT
END:VCALENDAR
