BEGIN:VCALENDAR
VERSION:2.0
PRODID:-//Sabre//Sabre VObject 4.5.8//EN
CALSCALE:GREGORIAN
NAME:Bringing Together Usability and Accessibility in Design Practice
X-WR-CALNAME:Bringing Together Usability and Accessibility in Design Practi
 ce
BEGIN:VTIMEZONE
TZID:UTC
X-MICROSOFT-CDO-TZID:0
BEGIN:STANDARD
DTSTART:20090123T000000
TZOFFSETFROM:+0000
TZOFFSETTO:+0000
TZNAME:UTC
END:STANDARD
END:VTIMEZONE
BEGIN:VEVENT
UID:cbcfbd9c-4e32-4e42-aa46-e547b3a3143a
DTSTAMP:20221116T104058Z
SUMMARY:Bringing Together Usability and Accessibility in Design Practice
DTSTART:20100118T000000Z
DTEND:20100118T000000Z
DESCRIPTION:https://www.w3.org/events/talks/2010/bringing-together-usabilit
 y-and-accessibility-in-design-practice/\n\nBringing Together Usability and
  Accessibility in Design Practice
STATUS:CONFIRMED
CREATED:20100118T000000Z
LAST-MODIFIED:20221116T104058Z
END:VEVENT
END:VCALENDAR
