BEGIN:VCALENDAR
VERSION:2.0
PRODID:-//Sabre//Sabre VObject 4.5.8//EN
CALSCALE:GREGORIAN
NAME:Hands on Semantic Web tutorial for developers (tutorial)
X-WR-CALNAME:Hands on Semantic Web tutorial for developers (tutorial)
BEGIN:VTIMEZONE
TZID:UTC
X-MICROSOFT-CDO-TZID:0
BEGIN:STANDARD
DTSTART:20090208T000000
TZOFFSETFROM:+0000
TZOFFSETTO:+0000
TZNAME:UTC
END:STANDARD
END:VTIMEZONE
BEGIN:VEVENT
UID:9c1b369f-2aa4-4a88-b5a1-b439200efad0
DTSTAMP:20221116T104757Z
SUMMARY:Hands on Semantic Web tutorial for developers (tutorial)
DTSTART:20100203T000000Z
DTEND:20100203T000000Z
DESCRIPTION:https://www.w3.org/events/talks/2010/hands-on-semantic-web-tuto
 rial-for-developers/\n\nHands on Semantic Web tutorial for developers
STATUS:CONFIRMED
CREATED:20100203T000000Z
LAST-MODIFIED:20221116T104757Z
END:VEVENT
END:VCALENDAR
