BEGIN:VCALENDAR
VERSION:2.0
PRODID:-//Sabre//Sabre VObject 4.5.8//EN
CALSCALE:GREGORIAN
NAME:SKOS hands-on workshop
X-WR-CALNAME:SKOS hands-on workshop
BEGIN:VTIMEZONE
TZID:UTC
X-MICROSOFT-CDO-TZID:0
BEGIN:STANDARD
DTSTART:20090116T000000
TZOFFSETFROM:+0000
TZOFFSETTO:+0000
TZNAME:UTC
END:STANDARD
END:VTIMEZONE
BEGIN:VEVENT
UID:336c7318-5235-4b3e-9039-56b7c34378cb
DTSTAMP:20221116T104112Z
SUMMARY:SKOS hands-on workshop
DTSTART:20100111T000000Z
DTEND:20100111T000000Z
DESCRIPTION:https://www.w3.org/events/talks/2010/skos-hands-on-workshop/\n\
 nSKOS hands-on workshop
STATUS:CONFIRMED
CREATED:20100111T000000Z
LAST-MODIFIED:20221116T104112Z
END:VEVENT
END:VCALENDAR
