BEGIN:VCALENDAR
VERSION:2.0
PRODID:-//Sabre//Sabre VObject 4.5.8//EN
CALSCALE:GREGORIAN
NAME:The future from now... on the internet
X-WR-CALNAME:The future from now... on the internet
BEGIN:VTIMEZONE
TZID:UTC
X-MICROSOFT-CDO-TZID:0
BEGIN:STANDARD
DTSTART:20090413T000000
TZOFFSETFROM:+0000
TZOFFSETTO:+0000
TZNAME:UTC
END:STANDARD
END:VTIMEZONE
BEGIN:VEVENT
UID:252e1caf-07ec-4efa-a6ef-67c02789e2ea
DTSTAMP:20221116T104105Z
SUMMARY:The future from now... on the internet
DTSTART:20100408T000000Z
DTEND:20100408T000000Z
DESCRIPTION:https://www.w3.org/events/talks/2010/the-future-from-now-on-the
 -internet/\n\nThe future from now... on the internet
STATUS:CONFIRMED
CREATED:20100408T000000Z
LAST-MODIFIED:20221116T104105Z
END:VEVENT
END:VCALENDAR
