BEGIN:VCALENDAR
VERSION:2.0
PRODID:-//Sabre//Sabre VObject 4.5.8//EN
CALSCALE:GREGORIAN
NAME:The semantic web and some Python based applications
X-WR-CALNAME:The semantic web and some Python based applications
BEGIN:VTIMEZONE
TZID:UTC
X-MICROSOFT-CDO-TZID:0
BEGIN:STANDARD
DTSTART:20090327T000000
TZOFFSETFROM:+0000
TZOFFSETTO:+0000
TZNAME:UTC
END:STANDARD
END:VTIMEZONE
BEGIN:VEVENT
UID:989b1451-7bfa-4f19-a204-fa7a9c190364
DTSTAMP:20221116T104112Z
SUMMARY:The semantic web and some Python based applications
DTSTART:20100322T000000Z
DTEND:20100322T000000Z
DESCRIPTION:https://www.w3.org/events/talks/2010/the-semantic-web-and-some-
 python-based-applications/\n\nThe semantic web and some Python based appli
 cations
STATUS:CONFIRMED
CREATED:20100322T000000Z
LAST-MODIFIED:20221116T104112Z
END:VEVENT
END:VCALENDAR
