BEGIN:VCALENDAR
VERSION:2.0
PRODID:-//Sabre//Sabre VObject 4.5.8//EN
CALSCALE:GREGORIAN
NAME:החשיבות שבהנגשת אתר אינטרנט (The importance of
  web accessibility)
X-WR-CALNAME:החשיבות שבהנגשת אתר אינטרנט (The impor
 tance of web accessibility)
BEGIN:VTIMEZONE
TZID:UTC
X-MICROSOFT-CDO-TZID:0
BEGIN:STANDARD
DTSTART:20100227T000000
TZOFFSETFROM:+0000
TZOFFSETTO:+0000
TZNAME:UTC
END:STANDARD
END:VTIMEZONE
BEGIN:VEVENT
UID:de09ae32-fe9a-4b1b-8bed-2c782bf80103
DTSTAMP:20221116T141351Z
SUMMARY:החשיבות שבהנגשת אתר אינטרנט (The importance
  of web accessibility)
DTSTART:20110222T000000Z
DTEND:20110222T000000Z
DESCRIPTION:https://www.w3.org/events/talks/2011/%D7%94%D7%97%D7%A9%D7%99%D
 7%91%D7%95%D7%AA-%D7%A9%D7%91%D7%94%D7%A0%D7%92%D7%A9%D7%AA-%D7%90%D7%AA%D
 7%A8-%D7%90%D7%99%D7%A0%D7%98%D7%A8%D7%A0%D7%98-the-importance-of-web-acce
 ssibility/\n\nהחשיבות שבהנגשת אתר אינטרנט (The imp
 ortance of web accessibility)
STATUS:CONFIRMED
CREATED:20110222T000000Z
LAST-MODIFIED:20221116T141351Z
END:VEVENT
END:VCALENDAR
