BEGIN:VCALENDAR
VERSION:2.0
PRODID:-//Sabre//Sabre VObject 4.5.8//EN
CALSCALE:GREGORIAN
NAME:הצגת דמואים\, הדגמות קוד ומסגרות פיתוח 
 חדשניים בטכנולוגיות ווב פתוחות + דיון פת
 וח (The open web platform - updates\, demos and code + open discussion)
X-WR-CALNAME:הצגת דמואים\, הדגמות קוד ומסגרות פ
 יתוח חדשניים בטכנולוגיות ווב פתוחות + די
 ון פתוח (The open web platform - updates\, demos and code + open dis
 cussion)
BEGIN:VTIMEZONE
TZID:UTC
X-MICROSOFT-CDO-TZID:0
BEGIN:STANDARD
DTSTART:20100401T000000
TZOFFSETFROM:+0000
TZOFFSETTO:+0000
TZNAME:UTC
END:STANDARD
END:VTIMEZONE
BEGIN:VEVENT
UID:8a9b6b8d-7a9c-4a81-a53e-f8777fc579c2
DTSTAMP:20221116T141349Z
SUMMARY:הצגת דמואים\, הדגמות קוד ומסגרות פיתו
 ח חדשניים בטכנולוגיות ווב פתוחות + דיון פ
 תוח (The open web platform - updates\, demos and code + open discussion
 )
DTSTART:20110327T000000Z
DTEND:20110327T000000Z
DESCRIPTION:https://www.w3.org/events/talks/2011/%D7%94%D7%A6%D7%92%D7%AA-%
 D7%93%D7%9E%D7%95%D7%90%D7%99%D7%9D-%D7%94%D7%93%D7%92%D7%9E%D7%95%D7%AA-%
 D7%A7%D7%95%D7%93-%D7%95%D7%9E%D7%A1%D7%92%D7%A8%D7%95%D7%AA-%D7%A4%D7%99%
 D7%AA%D7%95%D7%97-%D7%97%D7%93%D7%A9%D7%A0%D7%99%D7%99%D7%9D-%D7%91%D7%98%
 D7%9B%D7%A0%D7%95%D7%9C%D7%95%D7%92%D7%99%D7%95%D7%AA-%D7%95%D7%95%D7%91-%
 D7%A4%D7%AA%D7%95%D7%97%D7%95%D7%AA-%D7%93%D7%99%D7%95%D7%9F-%D7%A4%D7%AA%
 D7%95%D7%97-the-open-web-platform-updates-demos-and-code-open-discussion/\
 n\nהצגת דמואים\, הדגמות קוד ומסגרות פיתוח 
 חדשניים בטכנולוגיות ווב פתוחות + דיון פת
 וח (The open web platform - updates\, demos and code + open discussion)
STATUS:CONFIRMED
CREATED:20110327T000000Z
LAST-MODIFIED:20221116T141349Z
END:VEVENT
END:VCALENDAR
