BEGIN:VCALENDAR
VERSION:2.0
PRODID:-//Sabre//Sabre VObject 4.5.8//EN
CALSCALE:GREGORIAN
NAME:כלים ושיטות להנגשת אתרי אינטרנט (Tools and 
 practices for web accessibility)
X-WR-CALNAME:כלים ושיטות להנגשת אתרי אינטרנט (To
 ols and practices for web accessibility)
BEGIN:VTIMEZONE
TZID:UTC
X-MICROSOFT-CDO-TZID:0
BEGIN:STANDARD
DTSTART:20100227T000000
TZOFFSETFROM:+0000
TZOFFSETTO:+0000
TZNAME:UTC
END:STANDARD
END:VTIMEZONE
BEGIN:VEVENT
UID:63e01fa9-ec66-4ee4-943d-e7032b41aed6
DTSTAMP:20221116T141342Z
SUMMARY:כלים ושיטות להנגשת אתרי אינטרנט (Tools a
 nd practices for web accessibility)
DTSTART:20110222T000000Z
DTEND:20110222T000000Z
DESCRIPTION:https://www.w3.org/events/talks/2011/%D7%9B%D7%9C%D7%99%D7%9D-%
 D7%95%D7%A9%D7%99%D7%98%D7%95%D7%AA-%D7%9C%D7%94%D7%A0%D7%92%D7%A9%D7%AA-%
 D7%90%D7%AA%D7%A8%D7%99-%D7%90%D7%99%D7%A0%D7%98%D7%A8%D7%A0%D7%98-tools-a
 nd-practices-for-web-accessibility/\n\nכלים ושיטות להנגשת 
 אתרי אינטרנט (Tools and practices for web accessibility)
STATUS:CONFIRMED
CREATED:20110222T000000Z
LAST-MODIFIED:20221116T141342Z
END:VEVENT
END:VCALENDAR
