BEGIN:VCALENDAR
VERSION:2.0
PRODID:-//Sabre//Sabre VObject 4.5.8//EN
CALSCALE:GREGORIAN
NAME:Adopting HTML5 for Television: Next Steps
X-WR-CALNAME:Adopting HTML5 for Television: Next Steps
BEGIN:VTIMEZONE
TZID:UTC
X-MICROSOFT-CDO-TZID:0
BEGIN:STANDARD
DTSTART:20101116T000000
TZOFFSETFROM:+0000
TZOFFSETTO:+0000
TZNAME:UTC
END:STANDARD
END:VTIMEZONE
BEGIN:VEVENT
UID:3c433e09-6f68-4a2c-9292-44efb54a6e30
DTSTAMP:20221116T141343Z
SUMMARY:Adopting HTML5 for Television: Next Steps
DTSTART:20111111T000000Z
DTEND:20111111T000000Z
DESCRIPTION:https://www.w3.org/events/talks/2011/adopting-html5-for-televis
 ion-next-steps-2/\n\nAdopting HTML5 for Television: Next Steps
STATUS:CONFIRMED
CREATED:20111111T000000Z
LAST-MODIFIED:20221116T141343Z
END:VEVENT
END:VCALENDAR
