BEGIN:VCALENDAR
VERSION:2.0
PRODID:-//Sabre//Sabre VObject 4.5.8//EN
CALSCALE:GREGORIAN
NAME:Applications Web sur Mobiles
X-WR-CALNAME:Applications Web sur Mobiles
BEGIN:VTIMEZONE
TZID:UTC
X-MICROSOFT-CDO-TZID:0
BEGIN:STANDARD
DTSTART:20101127T000000
TZOFFSETFROM:+0000
TZOFFSETTO:+0000
TZNAME:UTC
END:STANDARD
END:VTIMEZONE
BEGIN:VEVENT
UID:f32efa5d-c25b-42f5-b735-95351e3f0bd0
DTSTAMP:20221116T141350Z
SUMMARY:Applications Web sur Mobiles
DTSTART:20111122T000000Z
DTEND:20111122T000000Z
DESCRIPTION:https://www.w3.org/events/talks/2011/applications-web-sur-mobil
 es/\n\nApplications Web sur Mobiles
STATUS:CONFIRMED
CREATED:20111122T000000Z
LAST-MODIFIED:20221116T141350Z
END:VEVENT
END:VCALENDAR
