BEGIN:VCALENDAR
VERSION:2.0
PRODID:-//Sabre//Sabre VObject 4.5.8//EN
CALSCALE:GREGORIAN
NAME:Communicating between iframes using HTML5 postMessage
X-WR-CALNAME:Communicating between iframes using HTML5 postMessage
BEGIN:VTIMEZONE
TZID:UTC
X-MICROSOFT-CDO-TZID:0
BEGIN:STANDARD
DTSTART:20101223T000000
TZOFFSETFROM:+0000
TZOFFSETTO:+0000
TZNAME:UTC
END:STANDARD
END:VTIMEZONE
BEGIN:VEVENT
UID:9a0f5aac-3b5b-40c8-884e-b1a308b1bd53
DTSTAMP:20221116T141337Z
SUMMARY:Communicating between iframes using HTML5 postMessage
DTSTART:20111218T000000Z
DTEND:20111218T000000Z
DESCRIPTION:https://www.w3.org/events/talks/2011/communicating-between-ifra
 mes-using-html5-postmessage/\n\nCommunicating between iframes using HTML5 
 postMessage
STATUS:CONFIRMED
CREATED:20111218T000000Z
LAST-MODIFIED:20221116T141337Z
END:VEVENT
END:VCALENDAR
