BEGIN:VCALENDAR
VERSION:2.0
PRODID:-//Sabre//Sabre VObject 4.5.8//EN
CALSCALE:GREGORIAN
NAME:Conducting Effective Accessibility Buy-In Sessions: A Key to Success
X-WR-CALNAME:Conducting Effective Accessibility Buy-In Sessions: A Key to S
 uccess
BEGIN:VTIMEZONE
TZID:UTC
X-MICROSOFT-CDO-TZID:0
BEGIN:STANDARD
DTSTART:20100322T000000
TZOFFSETFROM:+0000
TZOFFSETTO:+0000
TZNAME:UTC
END:STANDARD
END:VTIMEZONE
BEGIN:VEVENT
UID:48e0d3fa-de9f-4730-8760-ae53a93882d1
DTSTAMP:20221116T141341Z
SUMMARY:Conducting Effective Accessibility Buy-In Sessions: A Key to Succes
 s
DTSTART:20110317T000000Z
DTEND:20110317T000000Z
DESCRIPTION:https://www.w3.org/events/talks/2011/conducting-effective-acces
 sibility-buy-in-sessions-a-key-to-success/\n\nConducting Effective Accessi
 bility Buy-In Sessions: A Key to Success
STATUS:CONFIRMED
CREATED:20110317T000000Z
LAST-MODIFIED:20221116T141341Z
END:VEVENT
END:VCALENDAR
