BEGIN:VCALENDAR
VERSION:2.0
PRODID:-//Sabre//Sabre VObject 4.5.8//EN
CALSCALE:GREGORIAN
NAME:HTML5 et les nouvelles technologies du Web  (HTML5 and the new Web tec
 hnologies)
X-WR-CALNAME:HTML5 et les nouvelles technologies du Web  (HTML5 and the new
  Web technologies)
BEGIN:VTIMEZONE
TZID:UTC
X-MICROSOFT-CDO-TZID:0
BEGIN:STANDARD
DTSTART:20100329T000000
TZOFFSETFROM:+0000
TZOFFSETTO:+0000
TZNAME:UTC
END:STANDARD
END:VTIMEZONE
BEGIN:VEVENT
UID:4fbc0a85-ce31-4441-82fa-c16ecf97f5f7
DTSTAMP:20221116T141351Z
SUMMARY:HTML5 et les nouvelles technologies du Web  (HTML5 and the new Web 
 technologies)
DTSTART:20110324T000000Z
DTEND:20110324T000000Z
DESCRIPTION:https://www.w3.org/events/talks/2011/html5-et-les-nouvelles-tec
 hnologies-du-web-html5-and-the-new-web-technologies/\n\nHTML5 et les nouve
 lles technologies du Web  (HTML5 and the new Web technologies)
STATUS:CONFIRMED
CREATED:20110324T000000Z
LAST-MODIFIED:20221116T141351Z
END:VEVENT
END:VCALENDAR
