BEGIN:VCALENDAR
VERSION:2.0
PRODID:-//Sabre//Sabre VObject 4.5.8//EN
CALSCALE:GREGORIAN
NAME:HTML5 File API\, File System API + NPAPI
X-WR-CALNAME:HTML5 File API\, File System API + NPAPI
BEGIN:VTIMEZONE
TZID:UTC
X-MICROSOFT-CDO-TZID:0
BEGIN:STANDARD
DTSTART:20101223T000000
TZOFFSETFROM:+0000
TZOFFSETTO:+0000
TZNAME:UTC
END:STANDARD
END:VTIMEZONE
BEGIN:VEVENT
UID:481deaae-89d6-4225-a352-4ace21920309
DTSTAMP:20221116T141344Z
SUMMARY:HTML5 File API\, File System API + NPAPI
DTSTART:20111218T000000Z
DTEND:20111218T000000Z
DESCRIPTION:https://www.w3.org/events/talks/2011/html5-file-api-file-system
 -api-npapi/\n\nHTML5 File API\, File System API + NPAPI
STATUS:CONFIRMED
CREATED:20111218T000000Z
LAST-MODIFIED:20221116T141344Z
END:VEVENT
END:VCALENDAR
