BEGIN:VCALENDAR
VERSION:2.0
PRODID:-//Sabre//Sabre VObject 4.5.8//EN
CALSCALE:GREGORIAN
NAME:HTML5 for Business Apps
X-WR-CALNAME:HTML5 for Business Apps
BEGIN:VTIMEZONE
TZID:UTC
X-MICROSOFT-CDO-TZID:0
BEGIN:STANDARD
DTSTART:20101020T000000
TZOFFSETFROM:+0000
TZOFFSETTO:+0000
TZNAME:UTC
END:STANDARD
END:VTIMEZONE
BEGIN:VEVENT
UID:3d80deed-49ca-4a99-a1d1-3d3e1c7867bb
DTSTAMP:20221116T141339Z
SUMMARY:HTML5 for Business Apps
DTSTART:20111015T000000Z
DTEND:20111015T000000Z
DESCRIPTION:https://www.w3.org/events/talks/2011/html5-for-business-apps/\n
 \nHTML5 for Business Apps
STATUS:CONFIRMED
CREATED:20111015T000000Z
LAST-MODIFIED:20221116T141339Z
END:VEVENT
END:VCALENDAR
