BEGIN:VCALENDAR
VERSION:2.0
PRODID:-//Sabre//Sabre VObject 4.5.8//EN
CALSCALE:GREGORIAN
NAME:HTML5 forms and microdata
X-WR-CALNAME:HTML5 forms and microdata
BEGIN:VTIMEZONE
TZID:UTC
X-MICROSOFT-CDO-TZID:0
BEGIN:STANDARD
DTSTART:20100401T000000
TZOFFSETFROM:+0000
TZOFFSETTO:+0000
TZNAME:UTC
END:STANDARD
END:VTIMEZONE
BEGIN:VEVENT
UID:d566391b-d4b7-49b6-ab8a-bc9abbd57de9
DTSTAMP:20221116T141340Z
SUMMARY:HTML5 forms and microdata
DTSTART:20110327T000000Z
DTEND:20110327T000000Z
DESCRIPTION:https://www.w3.org/events/talks/2011/html5-forms-and-microdata/
 \n\nHTML5 forms and microdata
STATUS:CONFIRMED
CREATED:20110327T000000Z
LAST-MODIFIED:20221116T141340Z
END:VEVENT
END:VCALENDAR
