BEGIN:VCALENDAR
VERSION:2.0
PRODID:-//Sabre//Sabre VObject 4.5.8//EN
CALSCALE:GREGORIAN
NAME:HTML5\, mobile web\, and open web standards
X-WR-CALNAME:HTML5\, mobile web\, and open web standards
BEGIN:VTIMEZONE
TZID:UTC
X-MICROSOFT-CDO-TZID:0
BEGIN:STANDARD
DTSTART:20100306T000000
TZOFFSETFROM:+0000
TZOFFSETTO:+0000
TZNAME:UTC
END:STANDARD
END:VTIMEZONE
BEGIN:VEVENT
UID:dd72e4af-c7e5-40b3-8c7e-f611fa482bbb
DTSTAMP:20221116T141348Z
SUMMARY:HTML5\, mobile web\, and open web standards
DTSTART:20110301T000000Z
DTEND:20110301T000000Z
DESCRIPTION:https://www.w3.org/events/talks/2011/html5-mobile-web-and-open-
 web-standards/\n\nHTML5\, mobile web\, and open web standards
STATUS:CONFIRMED
CREATED:20110301T000000Z
LAST-MODIFIED:20221116T141348Z
END:VEVENT
END:VCALENDAR
