BEGIN:VCALENDAR
VERSION:2.0
PRODID:-//Sabre//Sabre VObject 4.5.8//EN
CALSCALE:GREGORIAN
NAME:Information Standards - what? why? how?
X-WR-CALNAME:Information Standards - what? why? how?
BEGIN:VTIMEZONE
TZID:UTC
X-MICROSOFT-CDO-TZID:0
BEGIN:STANDARD
DTSTART:20100508T000000
TZOFFSETFROM:+0000
TZOFFSETTO:+0000
TZNAME:UTC
END:STANDARD
END:VTIMEZONE
BEGIN:VEVENT
UID:7ec90fd5-2fe3-4f61-b31b-e5032e361e4a
DTSTAMP:20221116T141338Z
SUMMARY:Information Standards - what? why? how?
DTSTART:20110503T000000Z
DTEND:20110503T000000Z
DESCRIPTION:https://www.w3.org/events/talks/2011/information-standards-what
 -why-how/\n\nInformation Standards - what? why? how?
STATUS:CONFIRMED
CREATED:20110503T000000Z
LAST-MODIFIED:20221116T141338Z
END:VEVENT
END:VCALENDAR
