BEGIN:VCALENDAR
VERSION:2.0
PRODID:-//Sabre//Sabre VObject 4.5.8//EN
CALSCALE:GREGORIAN
NAME:Internationalisierung bei XML (Internationalization with XML)
X-WR-CALNAME:Internationalisierung bei XML (Internationalization with XML)
BEGIN:VTIMEZONE
TZID:UTC
X-MICROSOFT-CDO-TZID:0
BEGIN:STANDARD
DTSTART:20100306T000000
TZOFFSETFROM:+0000
TZOFFSETTO:+0000
TZNAME:UTC
END:STANDARD
END:VTIMEZONE
BEGIN:VEVENT
UID:5cd7660b-b960-491d-aa5b-d624ee9dd9ac
DTSTAMP:20221116T141339Z
SUMMARY:Internationalisierung bei XML (Internationalization with XML)
DTSTART:20110301T000000Z
DTEND:20110301T000000Z
DESCRIPTION:https://www.w3.org/events/talks/2011/internationalisierung-bei-
 xml-internationalization-with-xml/\n\nInternationalisierung bei XML (Inter
 nationalization with XML)
STATUS:CONFIRMED
CREATED:20110301T000000Z
LAST-MODIFIED:20221116T141339Z
END:VEVENT
END:VCALENDAR
