BEGIN:VCALENDAR
VERSION:2.0
PRODID:-//Sabre//Sabre VObject 4.5.8//EN
CALSCALE:GREGORIAN
NAME:Interoperabilidad y Reutilización de Información en la Web (Interope
 rability and Open Data through the Web)
X-WR-CALNAME:Interoperabilidad y Reutilización de Información en la Web (
 Interoperability and Open Data through the Web)
BEGIN:VTIMEZONE
TZID:UTC
X-MICROSOFT-CDO-TZID:0
BEGIN:STANDARD
DTSTART:20100322T000000
TZOFFSETFROM:+0000
TZOFFSETTO:+0000
TZNAME:UTC
END:STANDARD
END:VTIMEZONE
BEGIN:VEVENT
UID:16f10012-612e-4c7b-8b16-1b4061eeee0e
DTSTAMP:20221116T141337Z
SUMMARY:Interoperabilidad y Reutilización de Información en la Web (Inter
 operability and Open Data through the Web)
DTSTART:20110317T000000Z
DTEND:20110317T000000Z
DESCRIPTION:https://www.w3.org/events/talks/2011/interoperabilidad-y-reutil
 izaci%C3%B3n-de-informaci%C3%B3n-en-la-web-interoperability-and-open-data-
 through-the-web/\n\nInteroperabilidad y Reutilización de Información en 
 la Web (Interoperability and Open Data through the Web)
STATUS:CONFIRMED
CREATED:20110317T000000Z
LAST-MODIFIED:20221116T141337Z
END:VEVENT
END:VCALENDAR
