BEGIN:VCALENDAR
VERSION:2.0
PRODID:-//Sabre//Sabre VObject 4.5.8//EN
CALSCALE:GREGORIAN
NAME:Introduction to the canvas API and use examples
X-WR-CALNAME:Introduction to the canvas API and use examples
BEGIN:VTIMEZONE
TZID:UTC
X-MICROSOFT-CDO-TZID:0
BEGIN:STANDARD
DTSTART:20100401T000000
TZOFFSETFROM:+0000
TZOFFSETTO:+0000
TZNAME:UTC
END:STANDARD
END:VTIMEZONE
BEGIN:VEVENT
UID:5530064e-fec4-4a33-9d96-6de7fb956ce0
DTSTAMP:20221116T141346Z
SUMMARY:Introduction to the canvas API and use examples
DTSTART:20110327T000000Z
DTEND:20110327T000000Z
DESCRIPTION:https://www.w3.org/events/talks/2011/introduction-to-the-canvas
 -api-and-use-examples/\n\nIntroduction to the canvas API and use examples
STATUS:CONFIRMED
CREATED:20110327T000000Z
LAST-MODIFIED:20221116T141346Z
END:VEVENT
END:VCALENDAR
