BEGIN:VCALENDAR
VERSION:2.0
PRODID:-//Sabre//Sabre VObject 4.5.8//EN
CALSCALE:GREGORIAN
NAME:IT Standards - Objectives\, process\, products
X-WR-CALNAME:IT Standards - Objectives\, process\, products
BEGIN:VTIMEZONE
TZID:UTC
X-MICROSOFT-CDO-TZID:0
BEGIN:STANDARD
DTSTART:20100220T000000
TZOFFSETFROM:+0000
TZOFFSETTO:+0000
TZNAME:UTC
END:STANDARD
END:VTIMEZONE
BEGIN:VEVENT
UID:3c50d57a-042d-4937-ad6f-3c3d7b5de0fc
DTSTAMP:20221116T141342Z
SUMMARY:IT Standards - Objectives\, process\, products
DTSTART:20110215T000000Z
DTEND:20110215T000000Z
DESCRIPTION:https://www.w3.org/events/talks/2011/it-standards-objectives-pr
 ocess-products/\n\nIT Standards - Objectives\, process\, products
STATUS:CONFIRMED
CREATED:20110215T000000Z
LAST-MODIFIED:20221116T141342Z
END:VEVENT
END:VCALENDAR
