BEGIN:VCALENDAR
VERSION:2.0
PRODID:-//Sabre//Sabre VObject 4.5.8//EN
CALSCALE:GREGORIAN
NAME:La Plataforma Web Abierta (The Open Web Platform)
X-WR-CALNAME:La Plataforma Web Abierta (The Open Web Platform)
BEGIN:VTIMEZONE
TZID:UTC
X-MICROSOFT-CDO-TZID:0
BEGIN:STANDARD
DTSTART:20100228T000000
TZOFFSETFROM:+0000
TZOFFSETTO:+0000
TZNAME:UTC
END:STANDARD
END:VTIMEZONE
BEGIN:VEVENT
UID:4f67b590-0ec2-4a0f-9880-85d4c8965b37
DTSTAMP:20221116T141336Z
SUMMARY:La Plataforma Web Abierta (The Open Web Platform)
DTSTART:20110223T000000Z
DTEND:20110223T000000Z
DESCRIPTION:https://www.w3.org/events/talks/2011/la-plataforma-web-abierta-
 the-open-web-platform/\n\nLa Plataforma Web Abierta (The Open Web Platform
 )
STATUS:CONFIRMED
CREATED:20110223T000000Z
LAST-MODIFIED:20221116T141336Z
END:VEVENT
END:VCALENDAR
