BEGIN:VCALENDAR
VERSION:2.0
PRODID:-//Sabre//Sabre VObject 4.5.8//EN
CALSCALE:GREGORIAN
NAME:Making Your UA Accessible to All
X-WR-CALNAME:Making Your UA Accessible to All
BEGIN:VTIMEZONE
TZID:UTC
X-MICROSOFT-CDO-TZID:0
BEGIN:STANDARD
DTSTART:20100320T000000
TZOFFSETFROM:+0000
TZOFFSETTO:+0000
TZNAME:UTC
END:STANDARD
END:VTIMEZONE
BEGIN:VEVENT
UID:8b902cc4-4557-4547-8a41-753b7149a93a
DTSTAMP:20221116T141341Z
SUMMARY:Making Your UA Accessible to All
DTSTART:20110315T000000Z
DTEND:20110315T000000Z
DESCRIPTION:https://www.w3.org/events/talks/2011/making-your-ua-accessible-
 to-all/\n\nMaking Your UA Accessible to All
STATUS:CONFIRMED
CREATED:20110315T000000Z
LAST-MODIFIED:20221116T141341Z
END:VEVENT
END:VCALENDAR
