BEGIN:VCALENDAR
VERSION:2.0
PRODID:-//Sabre//Sabre VObject 4.5.8//EN
CALSCALE:GREGORIAN
NAME:Mobile Web Application Best Practices
X-WR-CALNAME:Mobile Web Application Best Practices
BEGIN:VTIMEZONE
TZID:UTC
X-MICROSOFT-CDO-TZID:0
BEGIN:STANDARD
DTSTART:20100108T000000
TZOFFSETFROM:+0000
TZOFFSETTO:+0000
TZNAME:UTC
END:STANDARD
END:VTIMEZONE
BEGIN:VEVENT
UID:be601816-dd67-45fb-8644-e24779a1eadb
DTSTAMP:20221116T141339Z
SUMMARY:Mobile Web Application Best Practices
DTSTART:20110103T000000Z
DTEND:20110103T000000Z
DESCRIPTION:https://www.w3.org/events/talks/2011/mobile-web-application-bes
 t-practices/\n\nMobile Web Application Best Practices
STATUS:CONFIRMED
CREATED:20110103T000000Z
LAST-MODIFIED:20221116T141339Z
END:VEVENT
END:VCALENDAR
