BEGIN:VCALENDAR
VERSION:2.0
PRODID:-//Sabre//Sabre VObject 4.5.8//EN
CALSCALE:GREGORIAN
NAME:Multilingual Forms and Applications
X-WR-CALNAME:Multilingual Forms and Applications
BEGIN:VTIMEZONE
TZID:UTC
X-MICROSOFT-CDO-TZID:0
BEGIN:STANDARD
DTSTART:20100409T000000
TZOFFSETFROM:+0000
TZOFFSETTO:+0000
TZNAME:UTC
END:STANDARD
END:VTIMEZONE
BEGIN:VEVENT
UID:50ab7764-9a57-4e82-978e-667f5f07bc5b
DTSTAMP:20221116T141347Z
SUMMARY:Multilingual Forms and Applications
DTSTART:20110404T000000Z
DTEND:20110404T000000Z
DESCRIPTION:https://www.w3.org/events/talks/2011/multilingual-forms-and-app
 lications/\n\nMultilingual Forms and Applications
STATUS:CONFIRMED
CREATED:20110404T000000Z
LAST-MODIFIED:20221116T141347Z
END:VEVENT
END:VCALENDAR
