BEGIN:VCALENDAR
VERSION:2.0
PRODID:-//Sabre//Sabre VObject 4.5.8//EN
CALSCALE:GREGORIAN
NAME:ODF and Authoring for the Web
X-WR-CALNAME:ODF and Authoring for the Web
BEGIN:VTIMEZONE
TZID:UTC
X-MICROSOFT-CDO-TZID:0
BEGIN:STANDARD
DTSTART:20100118T000000
TZOFFSETFROM:+0000
TZOFFSETTO:+0000
TZNAME:UTC
END:STANDARD
END:VTIMEZONE
BEGIN:VEVENT
UID:0bf46a71-f92c-4533-9ae7-ef6f4040bfe8
DTSTAMP:20221116T141343Z
SUMMARY:ODF and Authoring for the Web
DTSTART:20110113T000000Z
DTEND:20110113T000000Z
DESCRIPTION:https://www.w3.org/events/talks/2011/odf-and-authoring-for-the-
 web/\n\nODF and Authoring for the Web
STATUS:CONFIRMED
CREATED:20110113T000000Z
LAST-MODIFIED:20221116T141343Z
END:VEVENT
END:VCALENDAR
