BEGIN:VCALENDAR
VERSION:2.0
PRODID:-//Sabre//Sabre VObject 4.5.8//EN
CALSCALE:GREGORIAN
NAME:Quelles sont les meilleures méthodes de développement d'applications
  mobiles ? (What are the best methods to develop mobile applications?)
X-WR-CALNAME:Quelles sont les meilleures méthodes de développement d'appl
 ications mobiles ? (What are the best methods to develop mobile applicatio
 ns?)
BEGIN:VTIMEZONE
TZID:UTC
X-MICROSOFT-CDO-TZID:0
BEGIN:STANDARD
DTSTART:20100126T000000
TZOFFSETFROM:+0000
TZOFFSETTO:+0000
TZNAME:UTC
END:STANDARD
END:VTIMEZONE
BEGIN:VEVENT
UID:b4e574f4-fba8-4d11-b549-125cc240e5ae
DTSTAMP:20221116T141349Z
SUMMARY:Quelles sont les meilleures méthodes de développement d'applicati
 ons mobiles ? (What are the best methods to develop mobile applications?)
DTSTART:20110121T000000Z
DTEND:20110121T000000Z
DESCRIPTION:https://www.w3.org/events/talks/2011/quelles-sont-les-meilleure
 s-m%C3%A9thodes-de-d%C3%A9veloppement-dapplications-mobiles-what-are-the-b
 est-methods-to-develop-mobile-applications/\n\nQuelles sont les meilleures
  méthodes de développement d'applications mobiles ? (What are the best m
 ethods to develop mobile applications?)
STATUS:CONFIRMED
CREATED:20110121T000000Z
LAST-MODIFIED:20221116T141349Z
END:VEVENT
END:VCALENDAR
