BEGIN:VCALENDAR
VERSION:2.0
PRODID:-//Sabre//Sabre VObject 4.5.8//EN
CALSCALE:GREGORIAN
NAME:Review of new W3C technologies
X-WR-CALNAME:Review of new W3C technologies
BEGIN:VTIMEZONE
TZID:UTC
X-MICROSOFT-CDO-TZID:0
BEGIN:STANDARD
DTSTART:20101223T000000
TZOFFSETFROM:+0000
TZOFFSETTO:+0000
TZNAME:UTC
END:STANDARD
END:VTIMEZONE
BEGIN:VEVENT
UID:2485e21d-290f-4c80-b300-3364f931196c
DTSTAMP:20221116T141349Z
SUMMARY:Review of new W3C technologies
DTSTART:20111218T000000Z
DTEND:20111218T000000Z
DESCRIPTION:https://www.w3.org/events/talks/2011/review-of-new-w3c-technolo
 gies/\n\nReview of new W3C technologies
STATUS:CONFIRMED
CREATED:20111218T000000Z
LAST-MODIFIED:20221116T141349Z
END:VEVENT
END:VCALENDAR
