BEGIN:VCALENDAR
VERSION:2.0
PRODID:-//Sabre//Sabre VObject 4.5.8//EN
CALSCALE:GREGORIAN
NAME:Secret Revealed: How to be Successful\, with Accessibility
X-WR-CALNAME:Secret Revealed: How to be Successful\, with Accessibility
BEGIN:VTIMEZONE
TZID:UTC
X-MICROSOFT-CDO-TZID:0
BEGIN:STANDARD
DTSTART:20100318T000000
TZOFFSETFROM:+0000
TZOFFSETTO:+0000
TZNAME:UTC
END:STANDARD
END:VTIMEZONE
BEGIN:VEVENT
UID:3fbad362-9518-4fb1-818a-011dd05077d8
DTSTAMP:20221116T142159Z
SUMMARY:Secret Revealed: How to be Successful\, with Accessibility
DTSTART:20110313T000000Z
DTEND:20110313T000000Z
DESCRIPTION:https://www.w3.org/events/talks/2011/secret-revealed-how-to-be-
 successful-with-accessibility/\n\nSecret Revealed: How to be Successful\, 
 with Accessibility
STATUS:CONFIRMED
CREATED:20110313T000000Z
LAST-MODIFIED:20221116T142159Z
END:VEVENT
END:VCALENDAR
